BEGIN:VCALENDAR
VERSION:2.0
PRODID:-//Sandy Springs Garden Club - ECPv6.15.15//NONSGML v1.0//EN
CALSCALE:GREGORIAN
METHOD:PUBLISH
X-ORIGINAL-URL:https://sandyspringsgardenclub.org
X-WR-CALDESC:Events for Sandy Springs Garden Club
REFRESH-INTERVAL;VALUE=DURATION:PT1H
X-Robots-Tag:noindex
X-PUBLISHED-TTL:PT1H
BEGIN:VTIMEZONE
TZID:America/New_York
BEGIN:DAYLIGHT
TZOFFSETFROM:-0500
TZOFFSETTO:-0400
TZNAME:EDT
DTSTART:20240310T070000
END:DAYLIGHT
BEGIN:STANDARD
TZOFFSETFROM:-0400
TZOFFSETTO:-0500
TZNAME:EST
DTSTART:20241103T060000
END:STANDARD
BEGIN:DAYLIGHT
TZOFFSETFROM:-0500
TZOFFSETTO:-0400
TZNAME:EDT
DTSTART:20250309T070000
END:DAYLIGHT
BEGIN:STANDARD
TZOFFSETFROM:-0400
TZOFFSETTO:-0500
TZNAME:EST
DTSTART:20251102T060000
END:STANDARD
BEGIN:DAYLIGHT
TZOFFSETFROM:-0500
TZOFFSETTO:-0400
TZNAME:EDT
DTSTART:20260308T070000
END:DAYLIGHT
BEGIN:STANDARD
TZOFFSETFROM:-0400
TZOFFSETTO:-0500
TZNAME:EST
DTSTART:20261101T060000
END:STANDARD
END:VTIMEZONE
BEGIN:VEVENT
DTSTART;TZID=America/New_York:20250113T100000
DTEND;TZID=America/New_York:20250113T120000
DTSTAMP:20260421T113622
CREATED:20240805T171333Z
LAST-MODIFIED:20240815T142147Z
UID:835-1736762400-1736769600@sandyspringsgardenclub.org
SUMMARY:Fulton Federation Meeting - January
DESCRIPTION:All club members are welcome to attend\n\n\n\nTime: 10:15 AM Hospitality 10:30 AM Meeting\n\n \n\nLocation: Northside Drive Baptist Church 3100 Northside Drive\, Atlanta\, GA 30305\n\n \n\nSpeaker: Susan Meyers\, Monarchs Across Georgia\n\n \n\nTopic: “Monarch Butterflies\, Threats and Strategies to Help Recovery”\n\n \n\n 
URL:https://sandyspringsgardenclub.org/event/fulton-federation-meeting-january/
LOCATION:Northside Drive Baptist Church\, 3100 Northside Drive NW\, Atlanta\, GA\, 30305
CATEGORIES:Fulton Federation
END:VEVENT
END:VCALENDAR