BEGIN:VCALENDAR
VERSION:2.0
PRODID:-//Sandy Springs Garden Club - ECPv6.15.15//NONSGML v1.0//EN
CALSCALE:GREGORIAN
METHOD:PUBLISH
X-WR-CALNAME:Sandy Springs Garden Club
X-ORIGINAL-URL:https://sandyspringsgardenclub.org
X-WR-CALDESC:Events for Sandy Springs Garden Club
REFRESH-INTERVAL;VALUE=DURATION:PT1H
X-Robots-Tag:noindex
X-PUBLISHED-TTL:PT1H
BEGIN:VTIMEZONE
TZID:America/New_York
BEGIN:DAYLIGHT
TZOFFSETFROM:-0500
TZOFFSETTO:-0400
TZNAME:EDT
DTSTART:20230312T070000
END:DAYLIGHT
BEGIN:STANDARD
TZOFFSETFROM:-0400
TZOFFSETTO:-0500
TZNAME:EST
DTSTART:20231105T060000
END:STANDARD
BEGIN:DAYLIGHT
TZOFFSETFROM:-0500
TZOFFSETTO:-0400
TZNAME:EDT
DTSTART:20240310T070000
END:DAYLIGHT
BEGIN:STANDARD
TZOFFSETFROM:-0400
TZOFFSETTO:-0500
TZNAME:EST
DTSTART:20241103T060000
END:STANDARD
BEGIN:DAYLIGHT
TZOFFSETFROM:-0500
TZOFFSETTO:-0400
TZNAME:EDT
DTSTART:20250309T070000
END:DAYLIGHT
BEGIN:STANDARD
TZOFFSETFROM:-0400
TZOFFSETTO:-0500
TZNAME:EST
DTSTART:20251102T060000
END:STANDARD
END:VTIMEZONE
BEGIN:VEVENT
DTSTART;TZID=America/New_York:20241107T093000
DTEND;TZID=America/New_York:20241107T130000
DTSTAMP:20260421T143702
CREATED:20240719T215948Z
LAST-MODIFIED:20240728T155717Z
UID:184-1730971800-1730984400@sandyspringsgardenclub.org
SUMMARY:SSGC November Meeting
DESCRIPTION:Social Time: 9:30\, Speaker and Meeting: 10:00 \nSpeaker: Kyoko Nakagami \nTopic: Celebrating the New Year in Ikebana Style \n  \n 
URL:https://sandyspringsgardenclub.org/event/ssgc-november-meeting/
LOCATION:Lost Corner Preserve\, 7300 Brandon Mill Rd.\, Sandy Springs\, GA\, 30328
CATEGORIES:SSGC Meeting
END:VEVENT
END:VCALENDAR