BEGIN:VCALENDAR
VERSION:2.0
PRODID:-//Sandy Springs Garden Club - ECPv6.15.15//NONSGML v1.0//EN
CALSCALE:GREGORIAN
METHOD:PUBLISH
X-ORIGINAL-URL:https://sandyspringsgardenclub.org
X-WR-CALDESC:Events for Sandy Springs Garden Club
REFRESH-INTERVAL;VALUE=DURATION:PT1H
X-Robots-Tag:noindex
X-PUBLISHED-TTL:PT1H
BEGIN:VTIMEZONE
TZID:America/New_York
BEGIN:DAYLIGHT
TZOFFSETFROM:-0500
TZOFFSETTO:-0400
TZNAME:EDT
DTSTART:20230312T070000
END:DAYLIGHT
BEGIN:STANDARD
TZOFFSETFROM:-0400
TZOFFSETTO:-0500
TZNAME:EST
DTSTART:20231105T060000
END:STANDARD
BEGIN:DAYLIGHT
TZOFFSETFROM:-0500
TZOFFSETTO:-0400
TZNAME:EDT
DTSTART:20240310T070000
END:DAYLIGHT
BEGIN:STANDARD
TZOFFSETFROM:-0400
TZOFFSETTO:-0500
TZNAME:EST
DTSTART:20241103T060000
END:STANDARD
BEGIN:DAYLIGHT
TZOFFSETFROM:-0500
TZOFFSETTO:-0400
TZNAME:EDT
DTSTART:20250309T070000
END:DAYLIGHT
BEGIN:STANDARD
TZOFFSETFROM:-0400
TZOFFSETTO:-0500
TZNAME:EST
DTSTART:20251102T060000
END:STANDARD
END:VTIMEZONE
BEGIN:VEVENT
DTSTART;TZID=America/New_York:20241010T093000
DTEND;TZID=America/New_York:20241010T140000
DTSTAMP:20260422T195004
CREATED:20240725T151229Z
LAST-MODIFIED:20240728T144756Z
UID:369-1728552600-1728568800@sandyspringsgardenclub.org
SUMMARY:Dogwood District Annual Meeting and Luncheon 2024
DESCRIPTION:Join the Dogwood District for their Annual Meeting. Great food\, great speaker\, raffle baskets and an opportunity to network with members of other Dogwood District Clubs.
URL:https://sandyspringsgardenclub.org/event/dogwood-district-annual-meeting-and-luncheon-2024/
LOCATION:GA
CATEGORIES:Dogwood District
END:VEVENT
END:VCALENDAR